BEGIN:VCALENDAR
VERSION:2.0
PRODID:-//U3A Costa Brava - ECPv6.15.20//NONSGML v1.0//EN
CALSCALE:GREGORIAN
METHOD:PUBLISH
X-WR-CALNAME:U3A Costa Brava
X-ORIGINAL-URL:https://u3acostabrava.org
X-WR-CALDESC:Events for U3A Costa Brava
REFRESH-INTERVAL;VALUE=DURATION:PT1H
X-Robots-Tag:noindex
X-PUBLISHED-TTL:PT1H
BEGIN:VTIMEZONE
TZID:Europe/Madrid
BEGIN:DAYLIGHT
TZOFFSETFROM:+0100
TZOFFSETTO:+0200
TZNAME:CEST
DTSTART:20250330T010000
END:DAYLIGHT
BEGIN:STANDARD
TZOFFSETFROM:+0200
TZOFFSETTO:+0100
TZNAME:CET
DTSTART:20251026T010000
END:STANDARD
BEGIN:DAYLIGHT
TZOFFSETFROM:+0100
TZOFFSETTO:+0200
TZNAME:CEST
DTSTART:20260329T010000
END:DAYLIGHT
BEGIN:STANDARD
TZOFFSETFROM:+0200
TZOFFSETTO:+0100
TZNAME:CET
DTSTART:20261025T010000
END:STANDARD
BEGIN:DAYLIGHT
TZOFFSETFROM:+0100
TZOFFSETTO:+0200
TZNAME:CEST
DTSTART:20270328T010000
END:DAYLIGHT
BEGIN:STANDARD
TZOFFSETFROM:+0200
TZOFFSETTO:+0100
TZNAME:CET
DTSTART:20271031T010000
END:STANDARD
END:VTIMEZONE
BEGIN:VEVENT
DTSTART;TZID=Europe/Madrid:20260416T103000
DTEND;TZID=Europe/Madrid:20260416T130000
DTSTAMP:20260424T155128
CREATED:20260307T181813Z
LAST-MODIFIED:20260324T191438Z
UID:10008876-1776335400-1776344400@u3acostabrava.org
SUMMARY:Association Meeting – Help decide the future of the U3A Costa Brava
DESCRIPTION:2026 is the 25th Anniversary of the U3A Costa Bravas first meeting. It’s organisation has remained the same more or less over the years. It survived Brexit and Covid\, but like most things it’s good to see if things could be improved. Three years ago the Committee agreed to a Workshop. As many as 54 members attended and were given a chance to say what they believed could improve the organisation for its members. All who attended felt it had been a worthwhile and fun experience. Some of the outcomes from this meeting were a new and improved website\, first aid training for all members\, speaker system for meetings and new groups such as snorkelling\, cooking and wine tasting. Well\, here is your opportunity again to have your say as to the future direction of our Organisation. Make sure you attend to have your voice heard.
URL:https://u3acostabrava.org/event/association-meeting-help-decide-the-future-of-the-u3a-costa-brava/
LOCATION:Aparthotel & Village Golf Beach\, Ctra. Platja De Pals \,Km\,4\,\, Girona\, 17256\, Spain
CATEGORIES:Interesting to all,Meetings
ATTACH;FMTTYPE=image/png:https://u3acostabrava.org/wp-content/uploads/2026/03/needs-2-3.png
END:VEVENT
END:VCALENDAR