BEGIN:VCALENDAR
VERSION:2.0
PRODID:-//U3A Costa Brava - ECPv6.15.20//NONSGML v1.0//EN
CALSCALE:GREGORIAN
METHOD:PUBLISH
X-ORIGINAL-URL:https://u3acostabrava.org
X-WR-CALDESC:Events for U3A Costa Brava
REFRESH-INTERVAL;VALUE=DURATION:PT1H
X-Robots-Tag:noindex
X-PUBLISHED-TTL:PT1H
BEGIN:VTIMEZONE
TZID:Europe/Madrid
BEGIN:DAYLIGHT
TZOFFSETFROM:+0100
TZOFFSETTO:+0200
TZNAME:CEST
DTSTART:20250330T010000
END:DAYLIGHT
BEGIN:STANDARD
TZOFFSETFROM:+0200
TZOFFSETTO:+0100
TZNAME:CET
DTSTART:20251026T010000
END:STANDARD
BEGIN:DAYLIGHT
TZOFFSETFROM:+0100
TZOFFSETTO:+0200
TZNAME:CEST
DTSTART:20260329T010000
END:DAYLIGHT
BEGIN:STANDARD
TZOFFSETFROM:+0200
TZOFFSETTO:+0100
TZNAME:CET
DTSTART:20261025T010000
END:STANDARD
BEGIN:DAYLIGHT
TZOFFSETFROM:+0100
TZOFFSETTO:+0200
TZNAME:CEST
DTSTART:20270328T010000
END:DAYLIGHT
BEGIN:STANDARD
TZOFFSETFROM:+0200
TZOFFSETTO:+0100
TZNAME:CET
DTSTART:20271031T010000
END:STANDARD
END:VTIMEZONE
BEGIN:VEVENT
DTSTART;TZID=Europe/Madrid:20260415T093000
DTEND;TZID=Europe/Madrid:20260415T170000
DTSTAMP:20260425T035443
CREATED:20260405T102017Z
LAST-MODIFIED:20260412T173656Z
UID:10009130-1776245400-1776272400@u3acostabrava.org
SUMMARY:April Golf at Gualta
DESCRIPTION:Gualta will be the third course we have played in 2026 and is one of the most popular on our list of courses.  Tee off is at 10.00 am.  The U3a price for the round is €20.22. \nAnother favourite place is L’Horta de Can Patxei\, the restaurant is set behind an orchard\, will be the venue for lunch.  Both the menu\, the food itself and the service have been good.  The price is €22 including water and wine. \nA warm welcome for our new members Cristina\, Rosa Mary\, Trevor\, Mark\, Colin and Cornelia.  Signing up as soon as possible is recommended as your fellow golfers are very quick on their keyboards. We hope you will be able to join us at Gualta.  
URL:https://u3acostabrava.org/event/april-golf-at-gualta/
LOCATION:Gualta Pitch and Put \,Torroella De Montgri\, https://www.google.com/maps/place//data=!4m2!3m1!1s0x12baf8220dc8d145:0x369798d08c391714?sa=X&ved=1t:8290&ictx=111
CATEGORIES:Golf - Par 3
ATTACH;FMTTYPE=image/png:https://u3acostabrava.org/wp-content/uploads/2026/04/IMG_5173.png
END:VEVENT
END:VCALENDAR