BEGIN:VCALENDAR
VERSION:2.0
PRODID:-//U3A Costa Brava - ECPv6.15.20//NONSGML v1.0//EN
CALSCALE:GREGORIAN
METHOD:PUBLISH
X-WR-CALNAME:U3A Costa Brava
X-ORIGINAL-URL:https://u3acostabrava.org
X-WR-CALDESC:Events for U3A Costa Brava
REFRESH-INTERVAL;VALUE=DURATION:PT1H
X-Robots-Tag:noindex
X-PUBLISHED-TTL:PT1H
BEGIN:VTIMEZONE
TZID:Europe/Madrid
BEGIN:DAYLIGHT
TZOFFSETFROM:+0100
TZOFFSETTO:+0200
TZNAME:CEST
DTSTART:20250330T010000
END:DAYLIGHT
BEGIN:STANDARD
TZOFFSETFROM:+0200
TZOFFSETTO:+0100
TZNAME:CET
DTSTART:20251026T010000
END:STANDARD
BEGIN:DAYLIGHT
TZOFFSETFROM:+0100
TZOFFSETTO:+0200
TZNAME:CEST
DTSTART:20260329T010000
END:DAYLIGHT
BEGIN:STANDARD
TZOFFSETFROM:+0200
TZOFFSETTO:+0100
TZNAME:CET
DTSTART:20261025T010000
END:STANDARD
BEGIN:DAYLIGHT
TZOFFSETFROM:+0100
TZOFFSETTO:+0200
TZNAME:CEST
DTSTART:20270328T010000
END:DAYLIGHT
BEGIN:STANDARD
TZOFFSETFROM:+0200
TZOFFSETTO:+0100
TZNAME:CET
DTSTART:20271031T010000
END:STANDARD
END:VTIMEZONE
BEGIN:VEVENT
DTSTART;TZID=Europe/Madrid:20260508T100000
DTEND;TZID=Europe/Madrid:20260508T133000
DTSTAMP:20260423T070416
CREATED:20260421T184918Z
LAST-MODIFIED:20260421T184918Z
UID:10009147-1778234400-1778247000@u3acostabrava.org
SUMMARY:Chapman's Banyoles Circle
DESCRIPTION:This is a circular ride mainly on minor roads beginning from Banyoles.  A few hills – not too long at 35km and we can always add a few more round the lake if we feel fit!
URL:https://u3acostabrava.org/event/chapmans-banyoles-circle/
LOCATION:Bar La Draga\, Carrer de La Llibertat\, 212\,\, Banyoles\, 17820
CATEGORIES:Las Ruedas
ATTACH;FMTTYPE=image/jpeg:https://u3acostabrava.org/wp-content/uploads/2026/04/cfp4.jpg
ORGANIZER;CN="Grace Knox":MAILTO:grace.knox@gmail.com
END:VEVENT
END:VCALENDAR