BEGIN:VCALENDAR
VERSION:2.0
PRODID:-//U3A Costa Brava - ECPv6.15.20//NONSGML v1.0//EN
CALSCALE:GREGORIAN
METHOD:PUBLISH
X-ORIGINAL-URL:https://u3acostabrava.org
X-WR-CALDESC:Events for U3A Costa Brava
REFRESH-INTERVAL;VALUE=DURATION:PT1H
X-Robots-Tag:noindex
X-PUBLISHED-TTL:PT1H
BEGIN:VTIMEZONE
TZID:Europe/Madrid
BEGIN:DAYLIGHT
TZOFFSETFROM:+0100
TZOFFSETTO:+0200
TZNAME:CEST
DTSTART:20250330T010000
END:DAYLIGHT
BEGIN:STANDARD
TZOFFSETFROM:+0200
TZOFFSETTO:+0100
TZNAME:CET
DTSTART:20251026T010000
END:STANDARD
BEGIN:DAYLIGHT
TZOFFSETFROM:+0100
TZOFFSETTO:+0200
TZNAME:CEST
DTSTART:20260329T010000
END:DAYLIGHT
BEGIN:STANDARD
TZOFFSETFROM:+0200
TZOFFSETTO:+0100
TZNAME:CET
DTSTART:20261025T010000
END:STANDARD
BEGIN:DAYLIGHT
TZOFFSETFROM:+0100
TZOFFSETTO:+0200
TZNAME:CEST
DTSTART:20270328T010000
END:DAYLIGHT
BEGIN:STANDARD
TZOFFSETFROM:+0200
TZOFFSETTO:+0100
TZNAME:CET
DTSTART:20271031T010000
END:STANDARD
END:VTIMEZONE
BEGIN:VEVENT
DTSTART;TZID=Europe/Madrid:20260610T100000
DTEND;TZID=Europe/Madrid:20260610T123000
DTSTAMP:20260418T204438
CREATED:20260416T100241Z
LAST-MODIFIED:20260416T190956Z
UID:10009141-1781085600-1781094600@u3acostabrava.org
SUMMARY:Local Interest – Bee Farm 2.5 hour Visit
DESCRIPTION:Maxi Bee farm visit: the beekeeper experience \nEmbark on a unique experience with Abellaires Empordanesos\, where you’ll discover firsthand the fascinating world of bees. \nAfter putting on our beekeeper suits\, we will head to the apiary (just 5 minutes by car). There\, we’ll explore the natural surroundings and the flora that nourishes our bees. \nWe will open the hive to observe the organization and work of each bee up close\, discovering the importance of the smoker and the uncapping tool in the beekeeper’s work. \nThe experience includes a session to answer all your questions\, a short visit to our workshop\, and\, as a final treat\, a tasting of three honeys from our own production. \nWe will conclude the visit at the shop\, where you can find a wide variety of honeys and hive-derived products. \nMinimum of 10 people required for this to go ahead.  The cost is €39.  Payment up front required.  If you cannot make your payment within 15mins of registering for the event your registration will be rejected.  You can still come along but please contact Jackie on jak01@me.com to add your name to the list once your payment has been made.
URL:https://u3acostabrava.org/event/local-interest-3/
LOCATION:Abellaires Empordanesos\, Garriguella\, Carrer de Sant Sebastià\, 5\, Garriguella\, 17780
CATEGORIES:Interesting to all,Local Interest
ATTACH;FMTTYPE=image/jpeg:https://u3acostabrava.org/wp-content/uploads/2026/04/Bee-farm-1.jpg
ORGANIZER;CN="Chris Brown":MAILTO:chrisbrown1963@gmail.com
END:VEVENT
BEGIN:VEVENT
DTSTART;TZID=Europe/Madrid:20260610T113000
DTEND;TZID=Europe/Madrid:20260610T123000
DTSTAMP:20260418T204438
CREATED:20260416T103501Z
LAST-MODIFIED:20260416T190824Z
UID:10009142-1781091000-1781094600@u3acostabrava.org
SUMMARY:Local Interest –  Honey Tasting
DESCRIPTION:Mini bee farm visit: Guided Honey Tasting \nDo you want to know about the world of bees and taste honey? \nAt Abellaires Empordanesos we offer you the opportunity to do a guided tasting of the most representative honeys in our store and learn about the work of bees and their importance. \nThis is a 1 hour visit.  €19 Payment up front required.  If you cannot make your payment within 15mins of registering for the event your registration will be rejected.  You can still come along but please contact Jackie on jak01@me.com to add your name to the list once your payment has been made.
URL:https://u3acostabrava.org/event/local-interest-4/
LOCATION:Abellaires Empordanesos\, Garriguella\, Carrer de Sant Sebastià\, 5\, Garriguella\, 17780
CATEGORIES:Interesting to all,Local Interest
ATTACH;FMTTYPE=image/jpeg:https://u3acostabrava.org/wp-content/uploads/2026/04/images.jpeg
ORGANIZER;CN="Chris Brown":MAILTO:chrisbrown1963@gmail.com
END:VEVENT
END:VCALENDAR