BEGIN:VCALENDAR
VERSION:2.0
PRODID:-//U3A Costa Brava - ECPv6.15.20//NONSGML v1.0//EN
CALSCALE:GREGORIAN
METHOD:PUBLISH
X-WR-CALNAME:U3A Costa Brava
X-ORIGINAL-URL:https://u3acostabrava.org
X-WR-CALDESC:Events for U3A Costa Brava
REFRESH-INTERVAL;VALUE=DURATION:PT1H
X-Robots-Tag:noindex
X-PUBLISHED-TTL:PT1H
BEGIN:VTIMEZONE
TZID:Europe/Madrid
BEGIN:DAYLIGHT
TZOFFSETFROM:+0100
TZOFFSETTO:+0200
TZNAME:CEST
DTSTART:20250330T010000
END:DAYLIGHT
BEGIN:STANDARD
TZOFFSETFROM:+0200
TZOFFSETTO:+0100
TZNAME:CET
DTSTART:20251026T010000
END:STANDARD
BEGIN:DAYLIGHT
TZOFFSETFROM:+0100
TZOFFSETTO:+0200
TZNAME:CEST
DTSTART:20260329T010000
END:DAYLIGHT
BEGIN:STANDARD
TZOFFSETFROM:+0200
TZOFFSETTO:+0100
TZNAME:CET
DTSTART:20261025T010000
END:STANDARD
BEGIN:DAYLIGHT
TZOFFSETFROM:+0100
TZOFFSETTO:+0200
TZNAME:CEST
DTSTART:20270328T010000
END:DAYLIGHT
BEGIN:STANDARD
TZOFFSETFROM:+0200
TZOFFSETTO:+0100
TZNAME:CET
DTSTART:20271031T010000
END:STANDARD
END:VTIMEZONE
BEGIN:VEVENT
DTSTART;TZID=Europe/Madrid:20260519T120000
DTEND;TZID=Europe/Madrid:20260519T140000
DTSTAMP:20260424T200204
CREATED:20260404T144741Z
LAST-MODIFIED:20260404T154150Z
UID:10009066-1779192000-1779199200@u3acostabrava.org
SUMMARY:Petanca in Palafrugell
DESCRIPTION:Do you play Petanca…or would you like to give it a try?\nOur Petanca group is a place where everyone\, regardless of your experience level\, is welcomed with open arms. Why not give it a go and join our friendly community?\nWhile Petanca is a ‘competitive’ game\, we always play in a spirit of friendliness and cooperation.\nJoin us for a fun game or two\, and if you wish\, continue the good times with a menú del día at a local restaurant. It’s not just about the game\, it’s about the company and the shared experiences.
URL:https://u3acostabrava.org/event/petanca-in-palafrugell-10/2026-05-19/
LOCATION:Opposite Ajuntament Palafrugell\, Av. de Josep Pla 34\, Palafrugell\, Girona\, 17200\, Spain
CATEGORIES:Petanca in Palafrugell
ATTACH;FMTTYPE=image/png:https://u3acostabrava.org/wp-content/uploads/2026/04/EV-Petanca-4-1-8.png
END:VEVENT
BEGIN:VEVENT
DTSTART;TZID=Europe/Madrid:20260526T120000
DTEND;TZID=Europe/Madrid:20260526T140000
DTSTAMP:20260424T200204
CREATED:20260404T144741Z
LAST-MODIFIED:20260404T154150Z
UID:10009068-1779796800-1779804000@u3acostabrava.org
SUMMARY:Petanca in Palafrugell
DESCRIPTION:Do you play Petanca…or would you like to give it a try?\nOur Petanca group is a place where everyone\, regardless of your experience level\, is welcomed with open arms. Why not give it a go and join our friendly community?\nWhile Petanca is a ‘competitive’ game\, we always play in a spirit of friendliness and cooperation.\nJoin us for a fun game or two\, and if you wish\, continue the good times with a menú del día at a local restaurant. It’s not just about the game\, it’s about the company and the shared experiences.
URL:https://u3acostabrava.org/event/petanca-in-palafrugell-10/2026-05-26/
LOCATION:Opposite Ajuntament Palafrugell\, Av. de Josep Pla 34\, Palafrugell\, Girona\, 17200\, Spain
CATEGORIES:Petanca in Palafrugell
ATTACH;FMTTYPE=image/png:https://u3acostabrava.org/wp-content/uploads/2026/04/EV-Petanca-4-1-8.png
END:VEVENT
BEGIN:VEVENT
DTSTART;TZID=Europe/Madrid:20260602T120000
DTEND;TZID=Europe/Madrid:20260602T140000
DTSTAMP:20260424T200204
CREATED:20260404T144741Z
LAST-MODIFIED:20260404T154150Z
UID:10009069-1780401600-1780408800@u3acostabrava.org
SUMMARY:Petanca in Palafrugell
DESCRIPTION:Do you play Petanca…or would you like to give it a try?\nOur Petanca group is a place where everyone\, regardless of your experience level\, is welcomed with open arms. Why not give it a go and join our friendly community?\nWhile Petanca is a ‘competitive’ game\, we always play in a spirit of friendliness and cooperation.\nJoin us for a fun game or two\, and if you wish\, continue the good times with a menú del día at a local restaurant. It’s not just about the game\, it’s about the company and the shared experiences.
URL:https://u3acostabrava.org/event/petanca-in-palafrugell-10/2026-06-02/
LOCATION:Opposite Ajuntament Palafrugell\, Av. de Josep Pla 34\, Palafrugell\, Girona\, 17200\, Spain
CATEGORIES:Petanca in Palafrugell
ATTACH;FMTTYPE=image/png:https://u3acostabrava.org/wp-content/uploads/2026/04/EV-Petanca-4-1-8.png
END:VEVENT
BEGIN:VEVENT
DTSTART;TZID=Europe/Madrid:20260609T120000
DTEND;TZID=Europe/Madrid:20260609T140000
DTSTAMP:20260424T200204
CREATED:20260404T144741Z
LAST-MODIFIED:20260404T154150Z
UID:10009070-1781006400-1781013600@u3acostabrava.org
SUMMARY:Petanca in Palafrugell
DESCRIPTION:Do you play Petanca…or would you like to give it a try?\nOur Petanca group is a place where everyone\, regardless of your experience level\, is welcomed with open arms. Why not give it a go and join our friendly community?\nWhile Petanca is a ‘competitive’ game\, we always play in a spirit of friendliness and cooperation.\nJoin us for a fun game or two\, and if you wish\, continue the good times with a menú del día at a local restaurant. It’s not just about the game\, it’s about the company and the shared experiences.
URL:https://u3acostabrava.org/event/petanca-in-palafrugell-10/2026-06-09/
LOCATION:Opposite Ajuntament Palafrugell\, Av. de Josep Pla 34\, Palafrugell\, Girona\, 17200\, Spain
CATEGORIES:Petanca in Palafrugell
ATTACH;FMTTYPE=image/png:https://u3acostabrava.org/wp-content/uploads/2026/04/EV-Petanca-4-1-8.png
END:VEVENT
BEGIN:VEVENT
DTSTART;TZID=Europe/Madrid:20260616T120000
DTEND;TZID=Europe/Madrid:20260616T140000
DTSTAMP:20260424T200204
CREATED:20260404T144741Z
LAST-MODIFIED:20260404T154150Z
UID:10009071-1781611200-1781618400@u3acostabrava.org
SUMMARY:Petanca in Palafrugell
DESCRIPTION:Do you play Petanca…or would you like to give it a try?\nOur Petanca group is a place where everyone\, regardless of your experience level\, is welcomed with open arms. Why not give it a go and join our friendly community?\nWhile Petanca is a ‘competitive’ game\, we always play in a spirit of friendliness and cooperation.\nJoin us for a fun game or two\, and if you wish\, continue the good times with a menú del día at a local restaurant. It’s not just about the game\, it’s about the company and the shared experiences.
URL:https://u3acostabrava.org/event/petanca-in-palafrugell-10/2026-06-16/
LOCATION:Opposite Ajuntament Palafrugell\, Av. de Josep Pla 34\, Palafrugell\, Girona\, 17200\, Spain
CATEGORIES:Petanca in Palafrugell
ATTACH;FMTTYPE=image/png:https://u3acostabrava.org/wp-content/uploads/2026/04/EV-Petanca-4-1-8.png
END:VEVENT
BEGIN:VEVENT
DTSTART;TZID=Europe/Madrid:20260623T120000
DTEND;TZID=Europe/Madrid:20260623T140000
DTSTAMP:20260424T200204
CREATED:20260404T144741Z
LAST-MODIFIED:20260404T154150Z
UID:10009072-1782216000-1782223200@u3acostabrava.org
SUMMARY:Petanca in Palafrugell
DESCRIPTION:Do you play Petanca…or would you like to give it a try?\nOur Petanca group is a place where everyone\, regardless of your experience level\, is welcomed with open arms. Why not give it a go and join our friendly community?\nWhile Petanca is a ‘competitive’ game\, we always play in a spirit of friendliness and cooperation.\nJoin us for a fun game or two\, and if you wish\, continue the good times with a menú del día at a local restaurant. It’s not just about the game\, it’s about the company and the shared experiences.
URL:https://u3acostabrava.org/event/petanca-in-palafrugell-10/2026-06-23/
LOCATION:Opposite Ajuntament Palafrugell\, Av. de Josep Pla 34\, Palafrugell\, Girona\, 17200\, Spain
CATEGORIES:Petanca in Palafrugell
ATTACH;FMTTYPE=image/png:https://u3acostabrava.org/wp-content/uploads/2026/04/EV-Petanca-4-1-8.png
END:VEVENT
END:VCALENDAR